 BEGIN:VCALENDAR
VERSION:2.0
PRODID:-//PilzSchule Hessen - ECPv6.15.18//NONSGML v1.0//EN
CALSCALE:GREGORIAN
METHOD:PUBLISH
X-WR-CALNAME:PilzSchule Hessen
X-ORIGINAL-URL:https://derpilzberater.de
X-WR-CALDESC:Veranstaltungen für PilzSchule Hessen
REFRESH-INTERVAL;VALUE=DURATION:PT1H
X-Robots-Tag:noindex
X-PUBLISHED-TTL:PT1H
BEGIN:VTIMEZONE
TZID:Europe/Berlin
BEGIN:DAYLIGHT
TZOFFSETFROM:+0100
TZOFFSETTO:+0200
TZNAME:CEST
DTSTART:20230326T010000
END:DAYLIGHT
BEGIN:STANDARD
TZOFFSETFROM:+0200
TZOFFSETTO:+0100
TZNAME:CET
DTSTART:20231029T010000
END:STANDARD
BEGIN:DAYLIGHT
TZOFFSETFROM:+0100
TZOFFSETTO:+0200
TZNAME:CEST
DTSTART:20240331T010000
END:DAYLIGHT
BEGIN:STANDARD
TZOFFSETFROM:+0200
TZOFFSETTO:+0100
TZNAME:CET
DTSTART:20241027T010000
END:STANDARD
BEGIN:DAYLIGHT
TZOFFSETFROM:+0100
TZOFFSETTO:+0200
TZNAME:CEST
DTSTART:20250330T010000
END:DAYLIGHT
BEGIN:STANDARD
TZOFFSETFROM:+0200
TZOFFSETTO:+0100
TZNAME:CET
DTSTART:20251026T010000
END:STANDARD
END:VTIMEZONE
BEGIN:VEVENT
DTSTART;TZID=Europe/Berlin:20240929T093000
DTEND;TZID=Europe/Berlin:20240929T170000
DTSTAMP:20260420T111549
CREATED:20231023T064028Z
LAST-MODIFIED:20240503T051910Z
UID:2177-1727602200-1727629200@derpilzberater.de
SUMMARY:Lehrwanderungen im Taunus - Pilze im Herbst
DESCRIPTION:Zwei halbtägliche Lehrwanderungen der Linden-Apotheke Bad Homburg und Marien-Apotheke Königstein \nWir durchstreifen für 2\,5 Stunden die Wälder des Taunus gemeinsam mit Dietmar Krüger und lernen die Pilze im Herbst sicher zu bestimmen. \nDie Veranstaltungen sind vor allem für Kunden der Apotheken gedacht – es gibt nur wenige Restplätze – fragen Sie also rechtzeitig an! \nTour am Vormittag: 9:30 – 12:00 Uhr \nTour am Nachmittag: 14:00 – 16:30 Uhr \nKosten: 35 Euro pro Tour \nTreffpunkt im Taunus: wird ca. 7 Tage vor der Lehrwanderung bekannt gegeben \nAnmeldungen senden Sie bitte an pilztour@apotheken-dr-kleinert.de
URL:https://derpilzberater.de/event/lehrwanderungen-im-taunus-pilze-im-herbst-2/
CATEGORIES:AUSGEBUCHT
ATTACH;FMTTYPE=image/jpeg:https://derpilzberater.de/wp-content/uploads/2022/11/K1024_IMG_4347.jpg
ORGANIZER;CN="Apothekenteam Dr. Kleinert - Bad Homburg/K%C3%B6nigstein":MAILTO:F.kleinert@apotheke-dr-kleinert.de
END:VEVENT
END:VCALENDAR